View In:
  ArcGIS JavaScript
  ArcGIS Online Map Viewer
  ArcGIS Earth
  ArcMap
  ArcGIS Pro
View Footprint In:
  ArcGIS Online Map Viewer
Service Description:  
Map Name:  Map
Legend
All Layers and Tables
Dynamic Legend
Dynamic All Layers
Layers: 
Description:  
Copyright Text:   
Spatial Reference: 
102100
 (3857)
Single Fused Map Cache:  true
Tile Info: 
- Height: 256
 
- Width: 256
 
- DPI: 96
 
- 
Levels of Detail:  24
- 
Level ID: 1
[ Start Tile, End Tile ]
 
- Resolution: 78271.5169639999
 
- Scale: 2.95828763795777E8
 
- 
Level ID: 2
[ Start Tile, End Tile ]
 
- Resolution: 39135.7584820001
 
- Scale: 1.47914381897889E8
 
- 
Level ID: 3
[ Start Tile, End Tile ]
 
- Resolution: 19567.8792409999
 
- Scale: 7.3957190948944E7
 
- 
Level ID: 4
[ Start Tile, End Tile ]
 
- Resolution: 9783.93962049996
 
- Scale: 3.6978595474472E7
 
- 
Level ID: 5
[ Start Tile, End Tile ]
 
- Resolution: 4891.96981024998
 
- Scale: 1.8489297737236E7
- Format: PNG
 
- Compression Quality: 0.0
 
- Origin: X:  -2.0037508342787E7
Y:  2.0037508342787E7
 
- Spatial Reference: 102100
 (3857)
 
Initial Extent: 
XMin: 1749374.2320544347
YMin: 6574144.612730336
XMax: 1755126.8484342825
YMax: 6579264.560388253
Spatial Reference: 102100
Full Extent: 
XMin: 1720530.130714619
YMin: 6573305.66336506
XMax: 1762321.5242623338
YMax: 6595809.822762309
Spatial Reference: 102100
Units:  esriMeters
Supported Image Format Types:  PNG32,PNG24,PNG,JPG,DIB,TIFF,EMF,PS,PDF,GIF,SVG,SVGZ,BMP
Document Info: 
Title: C:\Users\dwojnarowicz\Documents\ArcGIS\Projects\MyProject11\MyProject11.aprx
Author: 
Comments: 
Subject: 
Category: 
Keywords: oddziaĆy,wydzielenia
AntialiasingMode: None
TextAntialiasingMode: Force
Supports Dynamic Layers:  true
MaxRecordCount:  2000
MaxImageHeight:  4096
MaxImageWidth:  4096
Supported Query Formats:  JSON, geoJSON, PBF
Supports Query Data Elements:  true
Min Scale:  144447.638572
Max Scale:  1128.497176
Min LOD:  12
Max LOD:  19
Supports Datum Transformation:  true
Child Resources:
  
Info
  Dynamic Layer
 
Supported Operations:
  
Export Map
  Identify
  QueryDomains
  QueryLegends
  Find
  EstimateExportTilesSize
  ExportTiles
  Return Updates