View In:
  ArcGIS JavaScript
  ArcGIS Online Map Viewer
  ArcGIS Earth
  ArcMap
  ArcGIS Pro
View Footprint In:
  ArcGIS Online Map Viewer
Service Description:  
Map Name:  Map
Legend
All Layers and Tables
Dynamic Legend
Dynamic All Layers
Layers: 
Description:  
Copyright Text:   
Spatial Reference: 
102100
 (3857)
Single Fused Map Cache:  true
Tile Info: 
- Height: 256
 
- Width: 256
 
- DPI: 96
 
- 
Levels of Detail:  24
- 
Level ID: 1
[ Start Tile, End Tile ]
 
- Resolution: 78271.5169639999
 
- Scale: 2.95828763795777E8
 
- 
Level ID: 2
[ Start Tile, End Tile ]
 
- Resolution: 39135.7584820001
 
- Scale: 1.47914381897889E8
 
- 
Level ID: 3
[ Start Tile, End Tile ]
 
- Resolution: 19567.8792409999
 
- Scale: 7.3957190948944E7
 
- 
Level ID: 4
[ Start Tile, End Tile ]
 
- Resolution: 9783.93962049996
 
- Scale: 3.6978595474472E7
 
- 
Level ID: 5
[ Start Tile, End Tile ]
 
- Resolution: 4891.96981024998
 
- Scale: 1.8489297737236E7
- Format: PNG
 
- Compression Quality: 0.0
 
- Origin: X:  -2.0037508342787E7
Y:  2.0037508342787E7
 
- Spatial Reference: 102100
 (3857)
 
Initial Extent: 
XMin: 1715945.4449095652
YMin: 6569324.631293986
XMax: 1760469.3745658156
YMax: 6602302.704489021
Spatial Reference: 102100
Full Extent: 
XMin: 1716847.1361354345
YMin: 6561068.558623407
XMax: 1773468.5866795215
YMax: 6596145.817663636
Spatial Reference: 102100
Units:  esriMeters
Supported Image Format Types:  PNG32,PNG24,PNG,JPG,DIB,TIFF,EMF,PS,PDF,GIF,SVG,SVGZ,BMP
Document Info: 
Title: C:\Users\akocjan\AppData\Local\Temp\ArcGISProTemp24732\9753fbae-a02e-418a-87c5-2a97bb538fcc\Untitled.aprx
Author: 
Comments: 
Subject: 
Category: 
Keywords: park,otulina,obwody ochronne,oddziaĆy,wydzielenia
AntialiasingMode: None
TextAntialiasingMode: Force
Supports Dynamic Layers:  true
MaxRecordCount:  2000
MaxImageHeight:  4096
MaxImageWidth:  4096
Supported Query Formats:  JSON, geoJSON, PBF
Supports Query Data Elements:  true
Min Scale:  1155581.108577
Max Scale:  564.248588
Supports Datum Transformation:  true
Child Resources:
  
Info
  Dynamic Layer
 
Supported Operations:
  
Export Map
  Identify
  QueryDomains
  QueryLegends
  Find
  EstimateExportTilesSize
  ExportTiles
  Return Updates